BEGIN:VCALENDAR
VERSION:2.0
PRODID:-//Lusthopfen - ECPv6.15.20//NONSGML v1.0//EN
CALSCALE:GREGORIAN
METHOD:PUBLISH
X-WR-CALNAME:Lusthopfen
X-ORIGINAL-URL:https://lusthopfen.de
X-WR-CALDESC:Veranstaltungen für Lusthopfen
REFRESH-INTERVAL;VALUE=DURATION:PT1H
X-Robots-Tag:noindex
X-PUBLISHED-TTL:PT1H
BEGIN:VTIMEZONE
TZID:Europe/Helsinki
BEGIN:DAYLIGHT
TZOFFSETFROM:+0200
TZOFFSETTO:+0300
TZNAME:EEST
DTSTART:20250330T010000
END:DAYLIGHT
BEGIN:STANDARD
TZOFFSETFROM:+0300
TZOFFSETTO:+0200
TZNAME:EET
DTSTART:20251026T010000
END:STANDARD
BEGIN:DAYLIGHT
TZOFFSETFROM:+0200
TZOFFSETTO:+0300
TZNAME:EEST
DTSTART:20260329T010000
END:DAYLIGHT
BEGIN:STANDARD
TZOFFSETFROM:+0300
TZOFFSETTO:+0200
TZNAME:EET
DTSTART:20261025T010000
END:STANDARD
BEGIN:DAYLIGHT
TZOFFSETFROM:+0200
TZOFFSETTO:+0300
TZNAME:EEST
DTSTART:20270328T010000
END:DAYLIGHT
BEGIN:STANDARD
TZOFFSETFROM:+0300
TZOFFSETTO:+0200
TZNAME:EET
DTSTART:20271031T010000
END:STANDARD
END:VTIMEZONE
BEGIN:VEVENT
DTSTART;TZID=Europe/Helsinki:20260425T200000
DTEND;TZID=Europe/Helsinki:20260425T233000
DTSTAMP:20260425T134720
CREATED:20260422T164033Z
LAST-MODIFIED:20260422T164033Z
UID:1270-1777147200-1777159800@lusthopfen.de
SUMMARY:Tanz den Speck weg
DESCRIPTION:80/90er und Schlager
URL:https://lusthopfen.de/veranstaltung/tanz-den-speck-weg/
LOCATION:Orangerie Ludwigslust\, Fr.-Naumann-Allee 26\, Ludwigslust\, MV\, 19288\, Deutschland
ATTACH;FMTTYPE=image/jpeg:https://lusthopfen.de/wp-content/uploads/2026/04/2026-04-25.jpeg
ORGANIZER;CN="Braumanufaktur Ludwigslust GmbH & Co.KG":MAILTO:info@braumanufaktur-lwl.de
END:VEVENT
END:VCALENDAR