BEGIN:VCALENDAR
VERSION:2.0
PRODID:-//Lusthopfen - ECPv6.15.20//NONSGML v1.0//EN
CALSCALE:GREGORIAN
METHOD:PUBLISH
X-ORIGINAL-URL:https://lusthopfen.de
X-WR-CALDESC:Veranstaltungen für Lusthopfen
REFRESH-INTERVAL;VALUE=DURATION:PT1H
X-Robots-Tag:noindex
X-PUBLISHED-TTL:PT1H
BEGIN:VTIMEZONE
TZID:Europe/Helsinki
BEGIN:DAYLIGHT
TZOFFSETFROM:+0200
TZOFFSETTO:+0300
TZNAME:EEST
DTSTART:20230326T010000
END:DAYLIGHT
BEGIN:STANDARD
TZOFFSETFROM:+0300
TZOFFSETTO:+0200
TZNAME:EET
DTSTART:20231029T010000
END:STANDARD
BEGIN:DAYLIGHT
TZOFFSETFROM:+0200
TZOFFSETTO:+0300
TZNAME:EEST
DTSTART:20240331T010000
END:DAYLIGHT
BEGIN:STANDARD
TZOFFSETFROM:+0300
TZOFFSETTO:+0200
TZNAME:EET
DTSTART:20241027T010000
END:STANDARD
BEGIN:DAYLIGHT
TZOFFSETFROM:+0200
TZOFFSETTO:+0300
TZNAME:EEST
DTSTART:20250330T010000
END:DAYLIGHT
BEGIN:STANDARD
TZOFFSETFROM:+0300
TZOFFSETTO:+0200
TZNAME:EET
DTSTART:20251026T010000
END:STANDARD
BEGIN:DAYLIGHT
TZOFFSETFROM:+0200
TZOFFSETTO:+0300
TZNAME:EEST
DTSTART:20260329T010000
END:DAYLIGHT
BEGIN:STANDARD
TZOFFSETFROM:+0300
TZOFFSETTO:+0200
TZNAME:EET
DTSTART:20261025T010000
END:STANDARD
BEGIN:DAYLIGHT
TZOFFSETFROM:+0200
TZOFFSETTO:+0300
TZNAME:EEST
DTSTART:20270328T010000
END:DAYLIGHT
BEGIN:STANDARD
TZOFFSETFROM:+0300
TZOFFSETTO:+0200
TZNAME:EET
DTSTART:20271031T010000
END:STANDARD
END:VTIMEZONE
BEGIN:VEVENT
DTSTART;TZID=Europe/Helsinki:20260417T190000
DTEND;TZID=Europe/Helsinki:20260417T230000
DTSTAMP:20260420T095010
CREATED:20260325T115810Z
LAST-MODIFIED:20260325T121745Z
UID:1258-1776452400-1776466800@lusthopfen.de
SUMMARY:Krimizeit
DESCRIPTION:mit Untertiteln | geeignet für Hörgeschädigte
URL:https://lusthopfen.de/veranstaltung/krimizeit-2/
LOCATION:Orangerie Ludwigslust\, Fr.-Naumann-Allee 26\, Ludwigslust\, MV\, 19288\, Deutschland
ATTACH;FMTTYPE=image/jpeg:https://lusthopfen.de/wp-content/uploads/2026/03/IMG-20260325-WA0004.jpg
ORGANIZER;CN="Braumanufaktur Ludwigslust GmbH & Co.KG":MAILTO:info@braumanufaktur-lwl.de
END:VEVENT
BEGIN:VEVENT
DTSTART;TZID=Europe/Helsinki:20260411T190000
DTEND;TZID=Europe/Helsinki:20260411T233000
DTSTAMP:20260420T095010
CREATED:20260325T115554Z
LAST-MODIFIED:20260325T115554Z
UID:1255-1775934000-1775950200@lusthopfen.de
SUMMARY:Dear Robin | FEAHTERS & FUZZ
DESCRIPTION:MEGA Bühnenshow einer der angesagtesten Bands aus MV
URL:https://lusthopfen.de/veranstaltung/dear-robin-feahters-fuzz/
LOCATION:Orangerie Ludwigslust\, Fr.-Naumann-Allee 26\, Ludwigslust\, MV\, 19288\, Deutschland
ATTACH;FMTTYPE=image/webp:https://lusthopfen.de/wp-content/uploads/2026/03/02d959df-43f5-4606-83cc-38ca1dd1e59d.webp
ORGANIZER;CN="Braumanufaktur Ludwigslust GmbH & Co.KG":MAILTO:info@braumanufaktur-lwl.de
END:VEVENT
BEGIN:VEVENT
DTSTART;TZID=Europe/Helsinki:20260328T180000
DTEND;TZID=Europe/Helsinki:20260329T040000
DTSTAMP:20260420T095010
CREATED:20260325T115106Z
LAST-MODIFIED:20260325T121653Z
UID:1253-1774720800-1774756800@lusthopfen.de
SUMMARY:GOA meets Electro
DESCRIPTION:
URL:https://lusthopfen.de/veranstaltung/goa-meets-electro/
LOCATION:Orangerie Ludwigslust\, Fr.-Naumann-Allee 26\, Ludwigslust\, MV\, 19288\, Deutschland
CATEGORIES:Konzert
ATTACH;FMTTYPE=image/jpeg:https://lusthopfen.de/wp-content/uploads/2026/03/IMG-20260325-WA0005.jpg
END:VEVENT
BEGIN:VEVENT
DTSTART;TZID=Europe/Helsinki:20260307T180000
DTEND;TZID=Europe/Helsinki:20260308T020000
DTSTAMP:20260420T095010
CREATED:20251122T202730Z
LAST-MODIFIED:20251122T202730Z
UID:1231-1772906400-1772935200@lusthopfen.de
SUMMARY:Frauentag
DESCRIPTION:
URL:https://lusthopfen.de/veranstaltung/frauentag/
LOCATION:Orangerie Ludwigslust\, Fr.-Naumann-Allee 26\, Ludwigslust\, MV\, 19288\, Deutschland
ORGANIZER;CN="Braumanufaktur Ludwigslust GmbH & Co.KG":MAILTO:info@braumanufaktur-lwl.de
END:VEVENT
BEGIN:VEVENT
DTSTART;TZID=Europe/Helsinki:20260228T200000
DTEND;TZID=Europe/Helsinki:20260301T000000
DTSTAMP:20260420T095010
CREATED:20251031T123451Z
LAST-MODIFIED:20251031T123451Z
UID:1224-1772308800-1772323200@lusthopfen.de
SUMMARY:2 wie Pech und Schwefel
DESCRIPTION:Rock- & Popcover der letzten 50 Jahre
URL:https://lusthopfen.de/veranstaltung/2-wie-pech-und-schwefel/
LOCATION:Orangerie Ludwigslust\, Fr.-Naumann-Allee 26\, Ludwigslust\, MV\, 19288\, Deutschland
ATTACH;FMTTYPE=image/jpeg:https://lusthopfen.de/wp-content/uploads/2025/10/2026_02_2_wie.jpeg
ORGANIZER;CN="Braumanufaktur Ludwigslust GmbH & Co.KG":MAILTO:info@braumanufaktur-lwl.de
END:VEVENT
BEGIN:VEVENT
DTSTART;TZID=Europe/Helsinki:20260131T100000
DTEND;TZID=Europe/Helsinki:20260131T180000
DTSTAMP:20260420T095010
CREATED:20251211T200147Z
LAST-MODIFIED:20251211T200147Z
UID:1239-1769853600-1769882400@lusthopfen.de
SUMMARY:Kleidertauschparty
DESCRIPTION:Save the date! \nUnd haltet eure aussortierten Klamotten bereit! 😊 \nBei entspannter Musik und dem einen oder anderen Bierchen laden wir in entspannter Atmosphäre zum stöbern\, schnacken und tauschen ein. \nUnd so funktionierts: \n👕 bringt bis zu 10 Teile mit\n👚 Männer- und Frauenkleidung\, Schuhe und Accessoires (bitte keine Kindersachen)\n👠 oder ihr kommt nur zum stöbern\n👗 nehmt mit was euch gefällt (unbegrenzt)\n🩳 alles was übrig ist\, wird gespendet \nSo einfach ist es. 😊 \nFürs leibliche Wohl wird gesorgt sein\, auch für die die kein Bier trinken möchten.
URL:https://lusthopfen.de/veranstaltung/kleidertauschparty/
LOCATION:Orangerie Ludwigslust\, Fr.-Naumann-Allee 26\, Ludwigslust\, MV\, 19288\, Deutschland
ATTACH;FMTTYPE=image/jpeg:https://lusthopfen.de/wp-content/uploads/2025/12/Kleidertausch.jpeg
END:VEVENT
BEGIN:VEVENT
DTSTART;TZID=Europe/Helsinki:20260117T190000
DTEND;TZID=Europe/Helsinki:20260117T210000
DTSTAMP:20260420T095010
CREATED:20251122T202850Z
LAST-MODIFIED:20260115T153330Z
UID:1233-1768676400-1768683600@lusthopfen.de
SUMMARY:Bier- und Rumtasting
DESCRIPTION:
URL:https://lusthopfen.de/veranstaltung/bier-und-rumtasting/
LOCATION:Orangerie Ludwigslust\, Fr.-Naumann-Allee 26\, Ludwigslust\, MV\, 19288\, Deutschland
ORGANIZER;CN="Braumanufaktur Ludwigslust GmbH & Co.KG":MAILTO:info@braumanufaktur-lwl.de
END:VEVENT
BEGIN:VEVENT
DTSTART;TZID=Europe/Helsinki:20251231T200000
DTEND;TZID=Europe/Helsinki:20260101T020000
DTSTAMP:20260420T095010
CREATED:20251031T122432Z
LAST-MODIFIED:20251031T122432Z
UID:1215-1767211200-1767232800@lusthopfen.de
SUMMARY:Silvesterparty 2025
DESCRIPTION:Kommt und feiert mit uns in das neue Jahr
URL:https://lusthopfen.de/veranstaltung/silvesterparty-2025/
LOCATION:Orangerie Ludwigslust\, Fr.-Naumann-Allee 26\, Ludwigslust\, MV\, 19288\, Deutschland
ATTACH;FMTTYPE=image/jpeg:https://lusthopfen.de/wp-content/uploads/2025/10/2025_Silvester.jpeg
ORGANIZER;CN="Braumanufaktur Ludwigslust GmbH & Co.KG":MAILTO:info@braumanufaktur-lwl.de
END:VEVENT
BEGIN:VEVENT
DTSTART;TZID=Europe/Helsinki:20251220T200000
DTEND;TZID=Europe/Helsinki:20251221T020000
DTSTAMP:20260420T095010
CREATED:20251031T123144Z
LAST-MODIFIED:20251031T123144Z
UID:1221-1766260800-1766282400@lusthopfen.de
SUMMARY:Weihnachskonzert
DESCRIPTION:aTTacKe RoyaLe
URL:https://lusthopfen.de/veranstaltung/weihnachskonzert/
LOCATION:Orangerie Ludwigslust\, Fr.-Naumann-Allee 26\, Ludwigslust\, MV\, 19288\, Deutschland
CATEGORIES:Konzert
ATTACH;FMTTYPE=image/jpeg:https://lusthopfen.de/wp-content/uploads/2025/10/2025-Weihnachtskonzert.jpeg
ORGANIZER;CN="Braumanufaktur Ludwigslust GmbH & Co.KG":MAILTO:info@braumanufaktur-lwl.de
END:VEVENT
BEGIN:VEVENT
DTSTART;TZID=Europe/Helsinki:20251201T160000
DTEND;TZID=Europe/Helsinki:20251215T230000
DTSTAMP:20260420T095010
CREATED:20251204T220611Z
LAST-MODIFIED:20251204T220611Z
UID:1236-1764604800-1765839600@lusthopfen.de
SUMMARY:weihnachtliche Orangerie
DESCRIPTION:Mit den Freunden\, der Familie oder Kollegen nach Feierabend Glühwein\, Sanddornpunsch\, Bratwurst oder Flammkuchen an der Feuerschale genießen? \nDann auf in die Orangerie. \nZudem gibt es Deko und Handwerkliches zu erwerben.
URL:https://lusthopfen.de/veranstaltung/weihnachtliche-orangerie/
LOCATION:Orangerie Ludwigslust\, Fr.-Naumann-Allee 26\, Ludwigslust\, MV\, 19288\, Deutschland
ATTACH;FMTTYPE=image/png:https://lusthopfen.de/wp-content/uploads/2025/12/Weihnachtliches_Orangerie.png
ORGANIZER;CN="Braumanufaktur Ludwigslust GmbH & Co.KG":MAILTO:info@braumanufaktur-lwl.de
END:VEVENT
BEGIN:VEVENT
DTSTART;TZID=Europe/Helsinki:20251122T200000
DTEND;TZID=Europe/Helsinki:20251123T020000
DTSTAMP:20260420T095010
CREATED:20251031T122757Z
LAST-MODIFIED:20251031T122757Z
UID:1218-1763841600-1763863200@lusthopfen.de
SUMMARY:Discofox-Party
DESCRIPTION:Schlager\, Popklassiker und 1 -2 Tipp
URL:https://lusthopfen.de/veranstaltung/discofox-party/
LOCATION:Orangerie Ludwigslust\, Fr.-Naumann-Allee 26\, Ludwigslust\, MV\, 19288\, Deutschland
ATTACH;FMTTYPE=image/jpeg:https://lusthopfen.de/wp-content/uploads/2025/10/2025_Discofox.jpeg
ORGANIZER;CN="Braumanufaktur Ludwigslust GmbH & Co.KG":MAILTO:info@braumanufaktur-lwl.de
END:VEVENT
BEGIN:VEVENT
DTSTART;TZID=Europe/Helsinki:20250724T190000
DTEND;TZID=Europe/Helsinki:20250724T233000
DTSTAMP:20260420T095010
CREATED:20250630T214900Z
LAST-MODIFIED:20250630T214900Z
UID:1196-1753383600-1753399800@lusthopfen.de
SUMMARY:Larkly & Band
DESCRIPTION:souliger Pop\, der Geschichten erzählt \nLarkly ist eine Singer-Songwriterin aus Deutschland. Sie veröffentlichte 2024 ihre ersten vier Singles. Und es werden noch mehr folgen
URL:https://lusthopfen.de/veranstaltung/larkly-band/
LOCATION:Orangerie Ludwigslust\, Fr.-Naumann-Allee 26\, Ludwigslust\, MV\, 19288\, Deutschland
ATTACH;FMTTYPE=image/jpeg:https://lusthopfen.de/wp-content/uploads/2025/06/Larkly.jpeg
ORGANIZER;CN="Braumanufaktur Ludwigslust GmbH & Co.KG":MAILTO:info@braumanufaktur-lwl.de
END:VEVENT
BEGIN:VEVENT
DTSTART;TZID=Europe/Helsinki:20250404T190000
DTEND;TZID=Europe/Helsinki:20250404T233000
DTSTAMP:20260420T095010
CREATED:20250225T224002Z
LAST-MODIFIED:20250305T232053Z
UID:1189-1743793200-1743809400@lusthopfen.de
SUMMARY:Fräulein Frey
DESCRIPTION:Fräulein Frey ist ein Nordlicht mit einem Hang zum Tiefgang. Wo die gebürtige Mecklenburgerin auftaucht\, wird es gefühlvoll\, poetisch und energiegeladen. Ihr deutschsprachiger Songwriter-Pop lebt von charmanter Wortmalerei\, eingängigen Melodien und einer facettenreichen Stimme\, die mitten ins Herz trifft. Sie zelebriert das Leise ebenso wie das Impulsive\, liebt fein gepickte Gitarren und einen satten Bandsound. Zuletzt begeisterten sie und ihre Band im November 2024 das Publikum beim NDR-Funkhauskonzert in Schwerin und 2023 eröffneten sie ein KEIMZEIT Konzert im Rostocker M.A.U. Club.\n\n\nFreut euch auf einen unterhaltsamen Abend zum Träumen und Tanzen mit Fräulein Frey und ihrer Band am 4. April in der Orangerie in Ludwigslust.\nAktuelles Musikvideo:\n\n\nHier draussen: https://www.youtube.com/watch?v=NrnTKq-NC30
URL:https://lusthopfen.de/veranstaltung/fraeulein-frey/
LOCATION:MV
ATTACH;FMTTYPE=image/jpeg:https://lusthopfen.de/wp-content/uploads/2025/02/Fr_Frey.jpg
ORGANIZER;CN="Braumanufaktur Ludwigslust GmbH & Co.KG":MAILTO:info@braumanufaktur-lwl.de
END:VEVENT
BEGIN:VEVENT
DTSTART;TZID=Europe/Helsinki:20250322T180000
DTEND;TZID=Europe/Helsinki:20250322T233000
DTSTAMP:20260420T095010
CREATED:20250223T142630Z
LAST-MODIFIED:20250223T142630Z
UID:1186-1742666400-1742686200@lusthopfen.de
SUMMARY:AEQUINOX - Nacht dem Tage gleich
DESCRIPTION:born in disorder [death metal / Stralsund] \nSchweineElsen  [heavy/speed metal / Parchim] \nMytnorr [death metal / Stralsund] \nDREADSPREEDER [heavy-doom-trash / LWL] \nSONIC SOUP [LWL]
URL:https://lusthopfen.de/veranstaltung/aequinox-nacht-dem-tage-gleich/
LOCATION:Orangerie Ludwigslust\, Fr.-Naumann-Allee 26\, Ludwigslust\, MV\, 19288\, Deutschland
ATTACH;FMTTYPE=image/jpeg:https://lusthopfen.de/wp-content/uploads/2025/02/Aequinox.jpeg
ORGANIZER;CN="Braumanufaktur Ludwigslust GmbH & Co.KG":MAILTO:info@braumanufaktur-lwl.de
END:VEVENT
BEGIN:VEVENT
DTSTART;TZID=Europe/Helsinki:20250314T190000
DTEND;TZID=Europe/Helsinki:20250314T230000
DTSTAMP:20260420T095010
CREATED:20250223T130055Z
LAST-MODIFIED:20250223T130055Z
UID:1183-1741978800-1741993200@lusthopfen.de
SUMMARY:Fahrtwind und Fernweh
DESCRIPTION:Eine Frau wird 50 und will nochmal was ganz Neues: Motorrad fahren. Den Motorradführerschein zu machen\, kostet Überwindung und Kraft\, aber sie hält durch. Und dann fährt sie los … wochenlang tourt sie durch Neuseeland\, später umfährt sie die Konturen der ehemaligen DDR\, nimmt die Lofoten unter die Räder und sieht sich gründlich in Schottland um. Jede Reise ein Abenteuer\, jede Route ein Schritt zu mehr Freiheit. Dieses Buch erzählt von den Herausforderungen\, dem Mut\, alleine unterwegs zu sein\, und dem Glück\, die Welt auf zwei Rädern zu entdecken.
URL:https://lusthopfen.de/veranstaltung/fahrtwind-und-fernweh/
LOCATION:Orangerie Ludwigslust\, Fr.-Naumann-Allee 26\, Ludwigslust\, MV\, 19288\, Deutschland
ATTACH;FMTTYPE=image/jpeg:https://lusthopfen.de/wp-content/uploads/2025/02/Fahrtwind.jpg
ORGANIZER;CN="Braumanufaktur Ludwigslust GmbH & Co.KG":MAILTO:info@braumanufaktur-lwl.de
END:VEVENT
BEGIN:VEVENT
DTSTART;TZID=Europe/Helsinki:20250308T190000
DTEND;TZID=Europe/Helsinki:20250308T233000
DTSTAMP:20260420T095010
CREATED:20250223T125415Z
LAST-MODIFIED:20250223T125415Z
UID:1180-1741460400-1741476600@lusthopfen.de
SUMMARY:Karaoke Abend
DESCRIPTION:Es sind alle herzlich eingeladen zum selber singen\, mitsingen\, zuhören oder einfach nur um einen gemütlichen Abend an der Bar zu verbringen.\nWir freuen uns auf euch. \nEintritt natürlich frei
URL:https://lusthopfen.de/veranstaltung/karaoke-abend/
LOCATION:Orangerie Ludwigslust\, Fr.-Naumann-Allee 26\, Ludwigslust\, MV\, 19288\, Deutschland
ATTACH;FMTTYPE=image/jpeg:https://lusthopfen.de/wp-content/uploads/2025/02/Karaoke.jpg
ORGANIZER;CN="Braumanufaktur Ludwigslust GmbH & Co.KG":MAILTO:info@braumanufaktur-lwl.de
END:VEVENT
BEGIN:VEVENT
DTSTART;TZID=Europe/Helsinki:20241113T190000
DTEND;TZID=Europe/Helsinki:20241113T220000
DTSTAMP:20260420T095010
CREATED:20240423T113547Z
LAST-MODIFIED:20240423T114310Z
UID:1048-1731524400-1731535200@lusthopfen.de
SUMMARY:James Harries (UK)
DESCRIPTION:Der englische Singer-Songwriter James Harries tourt seit mittlerweile 20 Jahren durch Europa\, USA und Asien. Mit mehreren Millionen Streams („Only You“ / „Superstition“) überzeugt der „natural born minstrel“ (Uncut Magazine\, UK) auch mit seiner ehrlichen und zärtlichen Live-Performance. Einfach „exquisite“ (The Guardian\, UK). \n \n 
URL:https://lusthopfen.de/veranstaltung/james-harries-uk/
LOCATION:Orangerie Ludwigslust\, Fr.-Naumann-Allee 26\, Ludwigslust\, MV\, 19288\, Deutschland
ORGANIZER;CN="Braumanufaktur Ludwigslust GmbH & Co.KG":MAILTO:info@braumanufaktur-lwl.de
END:VEVENT
BEGIN:VEVENT
DTSTART;TZID=Europe/Helsinki:20240915T190000
DTEND;TZID=Europe/Helsinki:20240915T220000
DTSTAMP:20260420T095010
CREATED:20240429T133944Z
LAST-MODIFIED:20240429T134213Z
UID:1081-1726426800-1726437600@lusthopfen.de
SUMMARY:Wila Frank
DESCRIPTION:  \n \nMilwaukee\, Chicago\, San Franzisco … und nun bald in Ludwigslust!\nWila ist Songwriterin\, spielt Geige\, Klavier\, Mandoline\, Cello und E-Gitarre. \nHört hier mal rein: \n 
URL:https://lusthopfen.de/veranstaltung/wila-frank/
LOCATION:MV
END:VEVENT
BEGIN:VEVENT
DTSTART;TZID=Europe/Helsinki:20240907T170000
DTEND;TZID=Europe/Helsinki:20240908T010000
DTSTAMP:20260420T095010
CREATED:20240427T070049Z
LAST-MODIFIED:20240427T070429Z
UID:1066-1725728400-1725757200@lusthopfen.de
SUMMARY:Zum zweiten Mal! 😁 Sebastian RIPL
DESCRIPTION:Sebastian hat schon letztes Jahr die Orangerie gerockt und wir freuen uns auf ein Wiedersehen\nam 7. September während der KUKUNA! \nRIPL Of course I can – Making of ansehen \n \n \n 
URL:https://lusthopfen.de/veranstaltung/zum-zweiten-mal-%f0%9f%98%81-sebastian-ripl/
LOCATION:Orangerie Ludwigslust\, Fr.-Naumann-Allee 26\, Ludwigslust\, MV\, 19288\, Deutschland
ORGANIZER;CN="Braumanufaktur Ludwigslust GmbH & Co.KG":MAILTO:info@braumanufaktur-lwl.de
END:VEVENT
BEGIN:VEVENT
DTSTART;TZID=Europe/Helsinki:20240517T203000
DTEND;TZID=Europe/Helsinki:20240517T203000
DTSTAMP:20260420T095010
CREATED:20240411T094702Z
LAST-MODIFIED:20240411T100152Z
UID:1000-1715977800-1715977800@lusthopfen.de
SUMMARY:Krimizeit
DESCRIPTION:
URL:https://lusthopfen.de/veranstaltung/krimizeit/
LOCATION:Orangerie Ludwigslust\, Fr.-Naumann-Allee 26\, Ludwigslust\, MV\, 19288\, Deutschland
ORGANIZER;CN="Braumanufaktur Ludwigslust GmbH & Co.KG":MAILTO:info@braumanufaktur-lwl.de
END:VEVENT
BEGIN:VEVENT
DTSTART;TZID=Europe/Helsinki:20240509T120000
DTEND;TZID=Europe/Helsinki:20240509T120000
DTSTAMP:20260420T095010
CREATED:20240411T095825Z
LAST-MODIFIED:20240411T100134Z
UID:1008-1715256000-1715256000@lusthopfen.de
SUMMARY:Lusthopfen Bier-YOGA
DESCRIPTION:
URL:https://lusthopfen.de/veranstaltung/lusthopfen-bier-yoga-2/
LOCATION:Orangerie Ludwigslust\, Fr.-Naumann-Allee 26\, Ludwigslust\, MV\, 19288\, Deutschland
END:VEVENT
BEGIN:VEVENT
DTSTART;TZID=Europe/Helsinki:20240509T110000
DTEND;TZID=Europe/Helsinki:20240509T110000
DTSTAMP:20260420T095010
CREATED:20240411T095627Z
LAST-MODIFIED:20240427T070323Z
UID:1005-1715252400-1715252400@lusthopfen.de
SUMMARY:Lusthopfen Bier-YOGA
DESCRIPTION:
URL:https://lusthopfen.de/veranstaltung/lusthopfen-bier-yoga/
LOCATION:Orangerie Ludwigslust\, Fr.-Naumann-Allee 26\, Ludwigslust\, MV\, 19288\, Deutschland
END:VEVENT
BEGIN:VEVENT
DTSTART;TZID=Europe/Helsinki:20240421T190000
DTEND;TZID=Europe/Helsinki:20240421T230000
DTSTAMP:20260420T095010
CREATED:20240409T191750Z
LAST-MODIFIED:20240423T114707Z
UID:954-1713726000-1713740400@lusthopfen.de
SUMMARY:South For Winter
DESCRIPTION:Mit einer Mischung aus verträumtem Satzgesang\, stampfenden Folk und bluesigen Mordballaden ist der Sound von South for Winter aus Neuseeland und Nashville so vielseitig wie die Herkunft der Bandmitglieder. Das Trio besteht aus dem Neuseeländer Nick Stone und Dani Cichon sowie Alex Stradal aus Nordamerika. Gemeinsam kreieren die drei Multi-Instrumentalisten und Songwriter mit Instrumenten wie Cello\, Gitarre\, Mandoline\, Kofferstomp und dreistimmige Harmonien einen genre-übergreifenden Sound\, den man als Americana\, Neo-Folk oder Folk-Rock bezeichnen kann.\n\nIm Sommer 2014 trafen sich der Neuseeländer Nick Stone und Dani Cichon aus Colorado als Freiwillige beim Bau von Gewächshäusern in Südamerika. Dort\, auf einem peruanischen Dach\, schrieben die beiden Musiker ihren ersten von vielen Songs zusammen; ein Song\, der eines Tages South for Winters erste Single „Fallen Seeds“ werden sollte.\nOft als „Folk-Blues“\, „Folk-Jazz“ oder „Renaissance“ bezeichnet\, sind die Songs von South for Winter mit einer Tiefe von Emotionen und einem Erfahrungsreichtum intoniert\, die den Hörer in die Geschichte einlädt – eifrig und ängstlich mit jeder Strophe. In einer Landschaft voller unglaublicher Songwriter und Musiker haben South for Winter einen ganz eigenen Sound entwickelt. Mit faszinierender natürlicher Ausstrahlung und einer beeindruckenden Instrumentenauswahl hat sich South for Winter immer wieder als Publikumsfavorit etabliert.\nIhre Musik kann man als American Songwriting mit zarten Harmonien\, komplizierter Gitarren-Arbeit und erdigen Gesang beschreiben. Heraus kommt eine wundervolle Mischung aus Indie und Folk Rock. 2023 tourte die Band in Belgien\, Luxemburg\, Deutschland\, Dänemark\, Polen\, Neuseeland\, Kanada und den USA.\nDie Band erhielt Auszeichnungen wie Official Artist at South by Southwest Music Festival 2023; Finalist für „Best Group/Duo“ bei den International Acoustic Music Awards 2023; Official Showcase Artist bei Folk Alliance International 2022 und 2024.\nSouth for Winter kehrten 2022 mit dem GRAMMY-Preisträger Matt Leigh für ihr zweites Album Of Sea and Sky ins Studio zurück. Die ersten beiden Singles „Something in the Stars“ und „Underneath the Blood Moon“ sind bereits erschienen. Das neue Album erscheint im Frühling 2024.\n\n\n \n 
URL:https://lusthopfen.de/veranstaltung/south-for-winter/
LOCATION:Orangerie Ludwigslust\, Fr.-Naumann-Allee 26\, Ludwigslust\, MV\, 19288\, Deutschland
CATEGORIES:Konzert
ORGANIZER;CN="Braumanufaktur Ludwigslust GmbH & Co.KG":MAILTO:info@braumanufaktur-lwl.de
END:VEVENT
END:VCALENDAR