BEGIN:VCALENDAR
VERSION:2.0
PRODID:-//Lusthopfen - ECPv6.15.20//NONSGML v1.0//EN
CALSCALE:GREGORIAN
METHOD:PUBLISH
X-ORIGINAL-URL:https://lusthopfen.de
X-WR-CALDESC:Veranstaltungen für Lusthopfen
REFRESH-INTERVAL;VALUE=DURATION:PT1H
X-Robots-Tag:noindex
X-PUBLISHED-TTL:PT1H
BEGIN:VTIMEZONE
TZID:Europe/Helsinki
BEGIN:DAYLIGHT
TZOFFSETFROM:+0200
TZOFFSETTO:+0300
TZNAME:EEST
DTSTART:20230326T010000
END:DAYLIGHT
BEGIN:STANDARD
TZOFFSETFROM:+0300
TZOFFSETTO:+0200
TZNAME:EET
DTSTART:20231029T010000
END:STANDARD
BEGIN:DAYLIGHT
TZOFFSETFROM:+0200
TZOFFSETTO:+0300
TZNAME:EEST
DTSTART:20240331T010000
END:DAYLIGHT
BEGIN:STANDARD
TZOFFSETFROM:+0300
TZOFFSETTO:+0200
TZNAME:EET
DTSTART:20241027T010000
END:STANDARD
BEGIN:DAYLIGHT
TZOFFSETFROM:+0200
TZOFFSETTO:+0300
TZNAME:EEST
DTSTART:20250330T010000
END:DAYLIGHT
BEGIN:STANDARD
TZOFFSETFROM:+0300
TZOFFSETTO:+0200
TZNAME:EET
DTSTART:20251026T010000
END:STANDARD
END:VTIMEZONE
BEGIN:VEVENT
DTSTART;TZID=Europe/Helsinki:20240421T190000
DTEND;TZID=Europe/Helsinki:20240421T230000
DTSTAMP:20260421T202810
CREATED:20240409T191750Z
LAST-MODIFIED:20240423T114707Z
UID:954-1713726000-1713740400@lusthopfen.de
SUMMARY:South For Winter
DESCRIPTION:Mit einer Mischung aus verträumtem Satzgesang\, stampfenden Folk und bluesigen Mordballaden ist der Sound von South for Winter aus Neuseeland und Nashville so vielseitig wie die Herkunft der Bandmitglieder. Das Trio besteht aus dem Neuseeländer Nick Stone und Dani Cichon sowie Alex Stradal aus Nordamerika. Gemeinsam kreieren die drei Multi-Instrumentalisten und Songwriter mit Instrumenten wie Cello\, Gitarre\, Mandoline\, Kofferstomp und dreistimmige Harmonien einen genre-übergreifenden Sound\, den man als Americana\, Neo-Folk oder Folk-Rock bezeichnen kann.\n\nIm Sommer 2014 trafen sich der Neuseeländer Nick Stone und Dani Cichon aus Colorado als Freiwillige beim Bau von Gewächshäusern in Südamerika. Dort\, auf einem peruanischen Dach\, schrieben die beiden Musiker ihren ersten von vielen Songs zusammen; ein Song\, der eines Tages South for Winters erste Single „Fallen Seeds“ werden sollte.\nOft als „Folk-Blues“\, „Folk-Jazz“ oder „Renaissance“ bezeichnet\, sind die Songs von South for Winter mit einer Tiefe von Emotionen und einem Erfahrungsreichtum intoniert\, die den Hörer in die Geschichte einlädt – eifrig und ängstlich mit jeder Strophe. In einer Landschaft voller unglaublicher Songwriter und Musiker haben South for Winter einen ganz eigenen Sound entwickelt. Mit faszinierender natürlicher Ausstrahlung und einer beeindruckenden Instrumentenauswahl hat sich South for Winter immer wieder als Publikumsfavorit etabliert.\nIhre Musik kann man als American Songwriting mit zarten Harmonien\, komplizierter Gitarren-Arbeit und erdigen Gesang beschreiben. Heraus kommt eine wundervolle Mischung aus Indie und Folk Rock. 2023 tourte die Band in Belgien\, Luxemburg\, Deutschland\, Dänemark\, Polen\, Neuseeland\, Kanada und den USA.\nDie Band erhielt Auszeichnungen wie Official Artist at South by Southwest Music Festival 2023; Finalist für „Best Group/Duo“ bei den International Acoustic Music Awards 2023; Official Showcase Artist bei Folk Alliance International 2022 und 2024.\nSouth for Winter kehrten 2022 mit dem GRAMMY-Preisträger Matt Leigh für ihr zweites Album Of Sea and Sky ins Studio zurück. Die ersten beiden Singles „Something in the Stars“ und „Underneath the Blood Moon“ sind bereits erschienen. Das neue Album erscheint im Frühling 2024.\n\n\n \n 
URL:https://lusthopfen.de/veranstaltung/south-for-winter/
LOCATION:Orangerie Ludwigslust\, Fr.-Naumann-Allee 26\, Ludwigslust\, MV\, 19288\, Deutschland
CATEGORIES:Konzert
ORGANIZER;CN="Braumanufaktur Ludwigslust GmbH & Co.KG":MAILTO:info@braumanufaktur-lwl.de
END:VEVENT
END:VCALENDAR