BEGIN:VCALENDAR
VERSION:2.0
PRODID:-//Lusthopfen - ECPv6.15.20//NONSGML v1.0//EN
CALSCALE:GREGORIAN
METHOD:PUBLISH
X-ORIGINAL-URL:https://lusthopfen.de
X-WR-CALDESC:Veranstaltungen für Lusthopfen
REFRESH-INTERVAL;VALUE=DURATION:PT1H
X-Robots-Tag:noindex
X-PUBLISHED-TTL:PT1H
BEGIN:VTIMEZONE
TZID:Europe/Helsinki
BEGIN:DAYLIGHT
TZOFFSETFROM:+0200
TZOFFSETTO:+0300
TZNAME:EEST
DTSTART:20240331T010000
END:DAYLIGHT
BEGIN:STANDARD
TZOFFSETFROM:+0300
TZOFFSETTO:+0200
TZNAME:EET
DTSTART:20241027T010000
END:STANDARD
BEGIN:DAYLIGHT
TZOFFSETFROM:+0200
TZOFFSETTO:+0300
TZNAME:EEST
DTSTART:20250330T010000
END:DAYLIGHT
BEGIN:STANDARD
TZOFFSETFROM:+0300
TZOFFSETTO:+0200
TZNAME:EET
DTSTART:20251026T010000
END:STANDARD
BEGIN:DAYLIGHT
TZOFFSETFROM:+0200
TZOFFSETTO:+0300
TZNAME:EEST
DTSTART:20260329T010000
END:DAYLIGHT
BEGIN:STANDARD
TZOFFSETFROM:+0300
TZOFFSETTO:+0200
TZNAME:EET
DTSTART:20261025T010000
END:STANDARD
BEGIN:DAYLIGHT
TZOFFSETFROM:+0200
TZOFFSETTO:+0300
TZNAME:EEST
DTSTART:20270328T010000
END:DAYLIGHT
BEGIN:STANDARD
TZOFFSETFROM:+0300
TZOFFSETTO:+0200
TZNAME:EET
DTSTART:20271031T010000
END:STANDARD
END:VTIMEZONE
BEGIN:VEVENT
DTSTART;TZID=Europe/Helsinki:20251201T160000
DTEND;TZID=Europe/Helsinki:20251215T230000
DTSTAMP:20260421T122450
CREATED:20251204T220611Z
LAST-MODIFIED:20251204T220611Z
UID:1236-1764604800-1765839600@lusthopfen.de
SUMMARY:weihnachtliche Orangerie
DESCRIPTION:Mit den Freunden\, der Familie oder Kollegen nach Feierabend Glühwein\, Sanddornpunsch\, Bratwurst oder Flammkuchen an der Feuerschale genießen? \nDann auf in die Orangerie. \nZudem gibt es Deko und Handwerkliches zu erwerben.
URL:https://lusthopfen.de/veranstaltung/weihnachtliche-orangerie/
LOCATION:Orangerie Ludwigslust\, Fr.-Naumann-Allee 26\, Ludwigslust\, MV\, 19288\, Deutschland
ATTACH;FMTTYPE=image/png:https://lusthopfen.de/wp-content/uploads/2025/12/Weihnachtliches_Orangerie.png
ORGANIZER;CN="Braumanufaktur Ludwigslust GmbH & Co.KG":MAILTO:info@braumanufaktur-lwl.de
END:VEVENT
BEGIN:VEVENT
DTSTART;TZID=Europe/Helsinki:20251220T200000
DTEND;TZID=Europe/Helsinki:20251221T020000
DTSTAMP:20260421T122450
CREATED:20251031T123144Z
LAST-MODIFIED:20251031T123144Z
UID:1221-1766260800-1766282400@lusthopfen.de
SUMMARY:Weihnachskonzert
DESCRIPTION:aTTacKe RoyaLe
URL:https://lusthopfen.de/veranstaltung/weihnachskonzert/
LOCATION:Orangerie Ludwigslust\, Fr.-Naumann-Allee 26\, Ludwigslust\, MV\, 19288\, Deutschland
CATEGORIES:Konzert
ATTACH;FMTTYPE=image/jpeg:https://lusthopfen.de/wp-content/uploads/2025/10/2025-Weihnachtskonzert.jpeg
ORGANIZER;CN="Braumanufaktur Ludwigslust GmbH & Co.KG":MAILTO:info@braumanufaktur-lwl.de
END:VEVENT
BEGIN:VEVENT
DTSTART;TZID=Europe/Helsinki:20251231T200000
DTEND;TZID=Europe/Helsinki:20260101T020000
DTSTAMP:20260421T122450
CREATED:20251031T122432Z
LAST-MODIFIED:20251031T122432Z
UID:1215-1767211200-1767232800@lusthopfen.de
SUMMARY:Silvesterparty 2025
DESCRIPTION:Kommt und feiert mit uns in das neue Jahr
URL:https://lusthopfen.de/veranstaltung/silvesterparty-2025/
LOCATION:Orangerie Ludwigslust\, Fr.-Naumann-Allee 26\, Ludwigslust\, MV\, 19288\, Deutschland
ATTACH;FMTTYPE=image/jpeg:https://lusthopfen.de/wp-content/uploads/2025/10/2025_Silvester.jpeg
ORGANIZER;CN="Braumanufaktur Ludwigslust GmbH & Co.KG":MAILTO:info@braumanufaktur-lwl.de
END:VEVENT
END:VCALENDAR