BEGIN:VCALENDAR
VERSION:2.0
PRODID:-//Lusthopfen - ECPv6.15.20//NONSGML v1.0//EN
CALSCALE:GREGORIAN
METHOD:PUBLISH
X-WR-CALNAME:Lusthopfen
X-ORIGINAL-URL:https://lusthopfen.de
X-WR-CALDESC:Veranstaltungen für Lusthopfen
REFRESH-INTERVAL;VALUE=DURATION:PT1H
X-Robots-Tag:noindex
X-PUBLISHED-TTL:PT1H
BEGIN:VTIMEZONE
TZID:Europe/Helsinki
BEGIN:DAYLIGHT
TZOFFSETFROM:+0200
TZOFFSETTO:+0300
TZNAME:EEST
DTSTART:20240331T010000
END:DAYLIGHT
BEGIN:STANDARD
TZOFFSETFROM:+0300
TZOFFSETTO:+0200
TZNAME:EET
DTSTART:20241027T010000
END:STANDARD
BEGIN:DAYLIGHT
TZOFFSETFROM:+0200
TZOFFSETTO:+0300
TZNAME:EEST
DTSTART:20250330T010000
END:DAYLIGHT
BEGIN:STANDARD
TZOFFSETFROM:+0300
TZOFFSETTO:+0200
TZNAME:EET
DTSTART:20251026T010000
END:STANDARD
BEGIN:DAYLIGHT
TZOFFSETFROM:+0200
TZOFFSETTO:+0300
TZNAME:EEST
DTSTART:20260329T010000
END:DAYLIGHT
BEGIN:STANDARD
TZOFFSETFROM:+0300
TZOFFSETTO:+0200
TZNAME:EET
DTSTART:20261025T010000
END:STANDARD
BEGIN:DAYLIGHT
TZOFFSETFROM:+0200
TZOFFSETTO:+0300
TZNAME:EEST
DTSTART:20270328T010000
END:DAYLIGHT
BEGIN:STANDARD
TZOFFSETFROM:+0300
TZOFFSETTO:+0200
TZNAME:EET
DTSTART:20271031T010000
END:STANDARD
END:VTIMEZONE
BEGIN:VEVENT
DTSTART;TZID=Europe/Helsinki:20251231T200000
DTEND;TZID=Europe/Helsinki:20260101T020000
DTSTAMP:20260421T135045
CREATED:20251031T122432Z
LAST-MODIFIED:20251031T122432Z
UID:1215-1767211200-1767232800@lusthopfen.de
SUMMARY:Silvesterparty 2025
DESCRIPTION:Kommt und feiert mit uns in das neue Jahr
URL:https://lusthopfen.de/veranstaltung/silvesterparty-2025/
LOCATION:Orangerie Ludwigslust\, Fr.-Naumann-Allee 26\, Ludwigslust\, MV\, 19288\, Deutschland
ATTACH;FMTTYPE=image/jpeg:https://lusthopfen.de/wp-content/uploads/2025/10/2025_Silvester.jpeg
ORGANIZER;CN="Braumanufaktur Ludwigslust GmbH & Co.KG":MAILTO:info@braumanufaktur-lwl.de
END:VEVENT
BEGIN:VEVENT
DTSTART;TZID=Europe/Helsinki:20260117T190000
DTEND;TZID=Europe/Helsinki:20260117T210000
DTSTAMP:20260421T135045
CREATED:20251122T202850Z
LAST-MODIFIED:20260115T153330Z
UID:1233-1768676400-1768683600@lusthopfen.de
SUMMARY:Bier- und Rumtasting
DESCRIPTION:
URL:https://lusthopfen.de/veranstaltung/bier-und-rumtasting/
LOCATION:Orangerie Ludwigslust\, Fr.-Naumann-Allee 26\, Ludwigslust\, MV\, 19288\, Deutschland
ORGANIZER;CN="Braumanufaktur Ludwigslust GmbH & Co.KG":MAILTO:info@braumanufaktur-lwl.de
END:VEVENT
BEGIN:VEVENT
DTSTART;TZID=Europe/Helsinki:20260131T100000
DTEND;TZID=Europe/Helsinki:20260131T180000
DTSTAMP:20260421T135045
CREATED:20251211T200147Z
LAST-MODIFIED:20251211T200147Z
UID:1239-1769853600-1769882400@lusthopfen.de
SUMMARY:Kleidertauschparty
DESCRIPTION:Save the date! \nUnd haltet eure aussortierten Klamotten bereit! 😊 \nBei entspannter Musik und dem einen oder anderen Bierchen laden wir in entspannter Atmosphäre zum stöbern\, schnacken und tauschen ein. \nUnd so funktionierts: \n👕 bringt bis zu 10 Teile mit\n👚 Männer- und Frauenkleidung\, Schuhe und Accessoires (bitte keine Kindersachen)\n👠 oder ihr kommt nur zum stöbern\n👗 nehmt mit was euch gefällt (unbegrenzt)\n🩳 alles was übrig ist\, wird gespendet \nSo einfach ist es. 😊 \nFürs leibliche Wohl wird gesorgt sein\, auch für die die kein Bier trinken möchten.
URL:https://lusthopfen.de/veranstaltung/kleidertauschparty/
LOCATION:Orangerie Ludwigslust\, Fr.-Naumann-Allee 26\, Ludwigslust\, MV\, 19288\, Deutschland
ATTACH;FMTTYPE=image/jpeg:https://lusthopfen.de/wp-content/uploads/2025/12/Kleidertausch.jpeg
END:VEVENT
END:VCALENDAR